BEGIN:VCALENDAR
VERSION:2.0
PRODID:-//M. Dubach Barvermietung - ECPv6.15.20//NONSGML v1.0//EN
CALSCALE:GREGORIAN
METHOD:PUBLISH
X-ORIGINAL-URL:https://openairbar.ch
X-WR-CALDESC:Veranstaltungen für M. Dubach Barvermietung
REFRESH-INTERVAL;VALUE=DURATION:PT1H
X-Robots-Tag:noindex
X-PUBLISHED-TTL:PT1H
BEGIN:VTIMEZONE
TZID:Europe/Helsinki
BEGIN:DAYLIGHT
TZOFFSETFROM:+0200
TZOFFSETTO:+0300
TZNAME:EEST
DTSTART:20250330T010000
END:DAYLIGHT
BEGIN:STANDARD
TZOFFSETFROM:+0300
TZOFFSETTO:+0200
TZNAME:EET
DTSTART:20251026T010000
END:STANDARD
BEGIN:DAYLIGHT
TZOFFSETFROM:+0200
TZOFFSETTO:+0300
TZNAME:EEST
DTSTART:20260329T010000
END:DAYLIGHT
BEGIN:STANDARD
TZOFFSETFROM:+0300
TZOFFSETTO:+0200
TZNAME:EET
DTSTART:20261025T010000
END:STANDARD
BEGIN:DAYLIGHT
TZOFFSETFROM:+0200
TZOFFSETTO:+0300
TZNAME:EEST
DTSTART:20270328T010000
END:DAYLIGHT
BEGIN:STANDARD
TZOFFSETFROM:+0300
TZOFFSETTO:+0200
TZNAME:EET
DTSTART:20271031T010000
END:STANDARD
END:VTIMEZONE
BEGIN:VEVENT
DTSTART;TZID=Europe/Helsinki:20260819T090000
DTEND;TZID=Europe/Helsinki:20260822T230000
DTSTAMP:20260422T132733
CREATED:20150503T132933Z
LAST-MODIFIED:20150503T132933Z
UID:5925-1787130000-1787439600@openairbar.ch
SUMMARY:Openair Gampel
DESCRIPTION:Programm des Openair Gampel 2026. Das Openair Gampel 2026 findet vom Mittwoch\, 19. August\, ab 16 Uhr bis Sonntag\, 23. August 2026\, 12 Uhr stattopenairgampelvalais. Das Festival umfasst insgesamt 34 Bands\, wobei am Sonntag keine Bands auftreten werdenopenairgampelopenairguide. Zu den Headlinern und bekannten Acts gehören Kygo\, Marteria\, Sombr\, Hecht\, Bligg und Montezopenairgampelfestivalsunitedartistpool. \n\nDas Openair Gampel 2026 findet vom 19. bis 23. August stattopenairgampelfestivalsunited.\nDas Festival beginnt am Mittwoch um 16 Uhr und endet am Sonntag um 12 Uhr\, wobei am Sonntag keine Bands mehr auftretenopenairgampel.\nDas Line-up umfasst 34 Bands\, angeführt von internationalen Top-Acts wie Kygo und Schweizer Grössen wie Hecht und Bliggopenairguideartistpool.\nErste bestätigte Künstler sind unter anderem Kygo\, Marteria\, Sombr\, Zartmann\, Hecht\, Bligg und Montezopenairgampelfestivalsunitedartistpool.\nTickets sind ab CHF 130\,00 erhältlichfestivalsunited.\n\nOpenair Gampel: Details\nHintergrund / Kontext\nDas Openair Gampel ist ein viertägiges Musikfestival in Gampel-Bratsch\, Schweiz\, das für seine Mischung aus Musik\, Partys und guter Stimmung bekannt istvalais. Es zieht sowohl internationale als auch nationale Künstler anartistpool. \nOpenair Gampel: / Timetable (Auszug)\nEinige der geplanten Auftritte sind: \n\nMittwoch\, 19. August 2026openairgampelopenairguide:\n\n20:30 Uhr: MADSTONE (White Stage)openairgampel\n22:00 Uhr: GENDERBÜEBU (White Stage)openairgampel\n\n\nDonnerstag\, 20. August 2026openairgampelopenairguide:\n\n14:30 Uhr: DANI LIA (White Stage)openairgampel\n15:15 Uhr: MEEK (Red Stage)openairgampel\nWeitere Bands am Donnerstag: Victory Kidopenairguide\n\n\nFreitag\, 21. August 2026\n\n17:30 Uhr: BLOND (White Stage)facebook\n\n\n\nOpenair Gampel: Bestätigte Künstler (Auswahl)\nDas Line-up für 2026 umfasst unter anderemopenairgampelfestivalsunitedopenairguide: \n\nKygo (Pop\, Elektro)\nSombr (Pop\, Indie)\nMarteria\nZartmann\nHecht\nMontez\nBligg\nLo & Leduc\n\n \nOpenair Gampel:  Takeaway\n\nPlanen Sie Ihre Anreise rechtzeitig\, da das Festival über mehrere Tage gehtfestivalsunited.\nÜberprüfen Sie den vollständigen Slotplan auf der offiziellen Website\, um die genauen Spielzeiten Ihrer Lieblingsbands zu sehenopenairgampelopenairguide.\nDer Sonntag ist ein Abreisetag ohne Bands\, ideal für eine entspannte Abfahrtopenairgampel.\nTickets sind ab 130 CHF erhältlich; es empfiehlt sich\, diese frühzeitig zu sichern\nKontakt: \nSollten Sie noch offene Fragen zu unseren Angeboten\, Produkten und Dienstleistungen haben\, stehen wir Ihnen gerne zur Verfügung – Senden Sie Ihre Anfrage bitte an info@openairbar.ch. \nHandy Nr. 076 532 08 60 \nHier Direkt Online bestellen oder anfragen \nBildquelle: © shutterstock.com\, Veranstalter\, M. Dubach Barvermietung
URL:https://openairbar.ch/event/openair-gampel/
CATEGORIES:Openair
END:VEVENT
END:VCALENDAR